BEGIN:VCALENDAR
VERSION:2.0
PRODID:-//UC Foster Closet - ECPv6.15.20//NONSGML v1.0//EN
CALSCALE:GREGORIAN
METHOD:PUBLISH
X-WR-CALNAME:UC Foster Closet
X-ORIGINAL-URL:https://ucfostercloset.org
X-WR-CALDESC:Events for UC Foster Closet
REFRESH-INTERVAL;VALUE=DURATION:PT1H
X-Robots-Tag:noindex
X-PUBLISHED-TTL:PT1H
BEGIN:VTIMEZONE
TZID:America/Chicago
BEGIN:DAYLIGHT
TZOFFSETFROM:-0600
TZOFFSETTO:-0500
TZNAME:CDT
DTSTART:20220313T080000
END:DAYLIGHT
BEGIN:STANDARD
TZOFFSETFROM:-0500
TZOFFSETTO:-0600
TZNAME:CST
DTSTART:20221106T070000
END:STANDARD
BEGIN:DAYLIGHT
TZOFFSETFROM:-0600
TZOFFSETTO:-0500
TZNAME:CDT
DTSTART:20230312T080000
END:DAYLIGHT
BEGIN:STANDARD
TZOFFSETFROM:-0500
TZOFFSETTO:-0600
TZNAME:CST
DTSTART:20231105T070000
END:STANDARD
BEGIN:DAYLIGHT
TZOFFSETFROM:-0600
TZOFFSETTO:-0500
TZNAME:CDT
DTSTART:20240310T080000
END:DAYLIGHT
BEGIN:STANDARD
TZOFFSETFROM:-0500
TZOFFSETTO:-0600
TZNAME:CST
DTSTART:20241103T070000
END:STANDARD
BEGIN:DAYLIGHT
TZOFFSETFROM:-0600
TZOFFSETTO:-0500
TZNAME:CDT
DTSTART:20250309T080000
END:DAYLIGHT
BEGIN:STANDARD
TZOFFSETFROM:-0500
TZOFFSETTO:-0600
TZNAME:CST
DTSTART:20251102T070000
END:STANDARD
BEGIN:DAYLIGHT
TZOFFSETFROM:-0600
TZOFFSETTO:-0500
TZNAME:CDT
DTSTART:20260308T080000
END:DAYLIGHT
BEGIN:STANDARD
TZOFFSETFROM:-0500
TZOFFSETTO:-0600
TZNAME:CST
DTSTART:20261101T070000
END:STANDARD
END:VTIMEZONE
BEGIN:VTIMEZONE
TZID:UTC
BEGIN:STANDARD
TZOFFSETFROM:+0000
TZOFFSETTO:+0000
TZNAME:UTC
DTSTART:20210101T000000
END:STANDARD
END:VTIMEZONE
BEGIN:VEVENT
DTSTART;TZID=America/Chicago:20251004T100000
DTEND;TZID=America/Chicago:20251004T180000
DTSTAMP:20260423T131732
CREATED:20250930T174455Z
LAST-MODIFIED:20250930T174455Z
UID:7430-1759572000-1759600800@ucfostercloset.org
SUMMARY:Cantrell Farms Pumpkin Patch
DESCRIPTION:Please enable JavaScript in your browser to complete this form.Name *FirstLastEmail *Have you been to the foster closet before? If not\, you will need to send your contract before you can participate.  Please email ucfostercloset@gmail.com *What day will you be going to Cantrell Farms *Oct. 4Oct 5Oct 11Oct 12How many children will be attending with you?\n\n\n\n	Selected Value: 0\nSubmit   \n  \n  \nCantrell Farm Hours \nSaturday 10-6 \nSunday 12-6
URL:https://ucfostercloset.org/event/cantrell-farms-pumpkin-patch/
LOCATION:Cantrell Farms\, 5219 Granville Hwy\, Granville
END:VEVENT
BEGIN:VEVENT
DTSTART;TZID=America/Chicago:20250614T170000
DTEND;TZID=America/Chicago:20250614T210000
DTSTAMP:20260423T131732
CREATED:20250410T183857Z
LAST-MODIFIED:20250410T183857Z
UID:6679-1749920400-1749934800@ucfostercloset.org
SUMMARY:Chips for Charity
DESCRIPTION:
URL:https://ucfostercloset.org/event/chips-for-charity-2/
LOCATION:Upper Cumberland Regional Airport\, 750 Airport Road\, Sparta\, United States
END:VEVENT
BEGIN:VEVENT
DTSTART;TZID=America/Chicago:20250519T160000
DTEND;TZID=America/Chicago:20250519T190000
DTSTAMP:20260423T131732
CREATED:20250410T185716Z
LAST-MODIFIED:20250410T185716Z
UID:6687-1747670400-1747681200@ucfostercloset.org
SUMMARY:Open Shopping
DESCRIPTION:We have partnered with Food to the Rescue and have passed out flyers for our Open Shopping Day! We hope that if you are in need you will sign up to come shop with us!
URL:https://ucfostercloset.org/event/open-shopping-2/
LOCATION:UC Foster Closet\, 259 S Willow Ave\, Cookeville\, TN\, 38501\, United States
END:VEVENT
BEGIN:VEVENT
DTSTART;TZID=America/Chicago:20250426T100000
DTEND;TZID=America/Chicago:20250426T120000
DTSTAMP:20260423T131732
CREATED:20250410T181937Z
LAST-MODIFIED:20250410T181937Z
UID:6671-1745661600-1745668800@ucfostercloset.org
SUMMARY:Bunco Brunch
DESCRIPTION:
URL:https://ucfostercloset.org/event/bunco-brunch/
LOCATION:The French Cookie\, 125 W Broad Street\, Cookeville\, TN\, 38501\, United States
END:VEVENT
BEGIN:VEVENT
DTSTART;TZID=America/Chicago:20250413T160000
DTEND;TZID=America/Chicago:20250413T190000
DTSTAMP:20260423T131732
CREATED:20250410T184235Z
LAST-MODIFIED:20250410T184533Z
UID:6683-1744560000-1744570800@ucfostercloset.org
SUMMARY:Open Shopping
DESCRIPTION:If your family has received boxes from Food to the Rescue and you are in need of clothing for your children. Please consider coming to shop at the Foster Closet for FREE! \n*We have limits but would love to be able to share what the community has blessed us with!
URL:https://ucfostercloset.org/event/open-shopping/
LOCATION:UC Foster Closet\, 259 S Willow Ave\, Cookeville\, TN\, 38501\, United States
END:VEVENT
BEGIN:VEVENT
DTSTART;TZID=America/Chicago:20241220T170000
DTEND;TZID=America/Chicago:20241220T200000
DTSTAMP:20260423T131732
CREATED:20241107T011049Z
LAST-MODIFIED:20241121T012720Z
UID:6048-1734714000-1734724800@ucfostercloset.org
SUMMARY:Whoville Extravaganza
DESCRIPTION:EVENT IS FULL! \nRegistration is closed. \n  \nIf you have already signed up\, you will receive an email about your registration the week before. We look forward to seeing you and all your littles.
URL:https://ucfostercloset.org/event/whoville-extravaganza/
LOCATION:Cookeville Nazarene Church\, 360 S Old Kentucky Rd\, Cookeville\, Tennessee\, 38501
END:VEVENT
BEGIN:VEVENT
DTSTART;TZID=America/Chicago:20241012T100000
DTEND;TZID=America/Chicago:20241012T150000
DTSTAMP:20260423T131732
CREATED:20240911T163228Z
LAST-MODIFIED:20240911T163228Z
UID:5778-1728727200-1728745200@ucfostercloset.org
SUMMARY:Fall Festival 2024
DESCRIPTION:We hope to see you at our first Foster Family Fall Festival\n\n \nCome fellowship with other foster families! \n*Food \n*Face Painting \n*Petting Zoo \n*Games Prizes \n*Inflatables \nPlease get ONE TICKET per family!!!!!!! \n  \n  \n\nThis if for foster and kinship families ONLY
URL:https://ucfostercloset.org/event/fall-festival-2024/
LOCATION:2198 Fisk Road\, Cookeville\, TN 38501\, 2198 Fisk Road\, Cookeville\, Tennessee\, 38501
END:VEVENT
BEGIN:VEVENT
DTSTART;TZID=America/Chicago:20240905T113000
DTEND;TZID=America/Chicago:20240905T130000
DTSTAMP:20260423T131732
CREATED:20240822T191420Z
LAST-MODIFIED:20240827T112246Z
UID:5674-1725535800-1725541200@ucfostercloset.org
SUMMARY:Seeds of  Hope Luncheon
DESCRIPTION:Join us for an informational/fundraising luncheon and learn what the Upper Cumberland Foster Closet is all about. You can see how your church or business can help plant seeds of hope in the foster kids of the Upper Cumberland. \nWe not only serve traditional foster families but also kinship and relative care givers\, who sometimes need extra support. We want to introduce you to ways you can help. \nRomans 15:13 – May the God of hope fill you with all joy and peace as you trust in him\, so that you may overflow with hope by the power of the Holy Spirit.
URL:https://ucfostercloset.org/event/seeds-of-hope/
LOCATION:The River
END:VEVENT
BEGIN:VEVENT
DTSTART;TZID=America/Chicago:20240720T090000
DTEND;TZID=America/Chicago:20240720T130000
DTSTAMP:20260423T131732
CREATED:20240613T205442Z
LAST-MODIFIED:20240705T220401Z
UID:5131-1721466000-1721480400@ucfostercloset.org
SUMMARY:Back to School Bash 2024
DESCRIPTION:We can’t wait to love on you and your family.  Every child\, including bio and adopted\, will get a backpack\, haircut and shaved ice. Foster children will get a new pair of shoes and a new outfit. The whole family can shop in the foster closet on this day (not new clothing).\n\nPlease select one time slot and select 1 (one) ticket PER FAMILY. Proceed to “get ticket”. Then you will enter all of your family information under that one ticket.
URL:https://ucfostercloset.org/event/back-to-school-bash-2024/
LOCATION:UC Foster Closet\, 259 S Willow Ave\, Cookeville\, TN\, 38501\, United States
END:VEVENT
BEGIN:VEVENT
DTSTART;TZID=UTC:20231202T120000
DTEND;TZID=UTC:20231202T150000
DTSTAMP:20260423T131732
CREATED:20231023T203717Z
LAST-MODIFIED:20231026T194354Z
UID:3589-1701518400-1701529200@ucfostercloset.org
SUMMARY:2023 Christmas Scavenger Hunt
DESCRIPTION:We hope you have had the pleasure of attending our Christmas Scavenger Hunt in years past\, but if not\, here are a few things to know about this event! \n\nOur goal is to bless your whole family! That means everyone is included – foster children\, biological children\, adopted children\, etc. anyone that you are caring for in your home. So please make sure you register ALL of the children in your home.\nThis event will take 1-2 hours. You will arrive at the Foster Closet. You are welcome to take the opportunity and shop for a few things while you are there or you can get started with the scavenger hunt right away. You will receive clues and things as you venture around town (in your vehicle). You will end at the River Community Church where there will be many things to do and enjoy.\nYou will also receive a meal to take home for dinner so don’t worry about planning for dinner that night 🙂\n\nPlease select your arrival time for the event and then get ONE TICKET PER FAMILY.
URL:https://ucfostercloset.org/event/2023-christmas-scavenger-hunt/
LOCATION:UC Foster Closet\, 259 S Willow Ave\, Cookeville\, TN\, 38501\, United States
END:VEVENT
BEGIN:VEVENT
DTSTART;TZID=UTC:20231202T113000
DTEND;TZID=UTC:20231202T153000
DTSTAMP:20260423T131732
CREATED:20231026T011108Z
LAST-MODIFIED:20231105T002452Z
UID:3591-1701516600-1701531000@ucfostercloset.org
SUMMARY:VOLUNTEER - 2023 Christmas Scavenger Hunt
DESCRIPTION:*** PLEASE CREATE AN RSVP FOR EACH ADULT VOLUNTEER. Do not adjust the “total # of guests” in your registration. \nWe have two locations for volunteers during this event. Please select one of the locations. \n\nThe Foster Closet – At this location\, volunteers will assist with one of the following jobs:\n\npass out gifts and prizes\nassist families with shopping\nhelp with check in and check out\n\n\nThe River Community Church\n\npass out meals\nhelp children with DIY craft\nassist with gift shopping\npass out cookies\, hot chocolate\, and/or coffee\nother miscellaneous jobs\n\n\n\nChildren may volunteer; however\, we recommend children be 10 years old or older. If you have a younger child that you would like to bring with you\, please email us at ucfostercloset@gmail.com
URL:https://ucfostercloset.org/event/volunteer-2023-christmas-scavenger-hunt/
LOCATION:UC Foster Closet\, 259 S Willow Ave\, Cookeville\, TN\, 38501\, United States
END:VEVENT
BEGIN:VEVENT
DTSTART;TZID=America/Chicago:20230722T090000
DTEND;TZID=America/Chicago:20230722T130000
DTSTAMP:20260423T131732
CREATED:20230511T220952Z
LAST-MODIFIED:20230720T181642Z
UID:3029-1690016400-1690030800@ucfostercloset.org
SUMMARY:Back to School Bash 2023
DESCRIPTION:
URL:https://ucfostercloset.org/event/back-to-school-bash-2023/
LOCATION:UC Foster Closet\, 259 S Willow Ave\, Cookeville\, TN\, 38501\, United States
END:VEVENT
BEGIN:VEVENT
DTSTART;TZID=America/Chicago:20230520T160000
DTEND;TZID=America/Chicago:20230520T183000
DTSTAMP:20260423T131732
CREATED:20230424T011016Z
LAST-MODIFIED:20230424T020707Z
UID:2939-1684598400-1684607400@ucfostercloset.org
SUMMARY:North Sparta Church of God Connecting Families
DESCRIPTION:Come and fellowship with other foster families. This is a time to realize you are not alone in the walk of foster care! North Sparta Church of God love on you by feeding you and taking care of your kiddos while you have a time to relax.
URL:https://ucfostercloset.org/event/north-sparta-church-of-god-connecting-families/
END:VEVENT
BEGIN:VEVENT
DTSTART;TZID=America/Chicago:20230506T130000
DTEND;TZID=America/Chicago:20230506T160000
DTSTAMP:20260423T131732
CREATED:20230415T171722Z
LAST-MODIFIED:20230424T010952Z
UID:2895-1683378000-1683388800@ucfostercloset.org
SUMMARY:The Bend Connecting Families
DESCRIPTION:Come and fellowship with other foster families. This is a time to realize you are not alone in the walk of foster care! The Bend Church will love on you by feeding you and taking care of your kiddos while you have a time to relax. Feel free to reach out to Maresha if you have any questions at 859-250-0161.
URL:https://ucfostercloset.org/event/the-bend-connecting-families-2/
LOCATION:The Bend\, 1810 N Dixie Ave\, Cookeville\, TN\, 38501\, United States
END:VEVENT
BEGIN:VEVENT
DTSTART;TZID=America/Chicago:20230429T180000
DTEND;TZID=America/Chicago:20230429T220000
DTSTAMP:20260423T131732
CREATED:20230302T193946Z
LAST-MODIFIED:20230302T193946Z
UID:2766-1682791200-1682805600@ucfostercloset.org
SUMMARY:Chips for Charity
DESCRIPTION:Please visit the Chips for Charity page for more information!
URL:https://ucfostercloset.org/event/chips-for-charity/
END:VEVENT
BEGIN:VEVENT
DTSTART;TZID=America/Chicago:20230321T180000
DTEND;TZID=America/Chicago:20230321T200000
DTSTAMP:20260423T131732
CREATED:20230302T142755Z
LAST-MODIFIED:20230302T210305Z
UID:2758-1679421600-1679428800@ucfostercloset.org
SUMMARY:March Connecting Families
DESCRIPTION:Come and fellowship with other foster families. This is a time to realize you are not alone in the walk of foster care! Let Jefferson Ave Church of Christ love on you by feeding you and taking care of your kiddos while you have a time to relax.
URL:https://ucfostercloset.org/event/march-connecting-families/
END:VEVENT
BEGIN:VEVENT
DTSTART;TZID=America/Chicago:20230319T163000
DTEND;TZID=America/Chicago:20230319T180000
DTSTAMP:20260423T131732
CREATED:20230302T193519Z
LAST-MODIFIED:20230302T193519Z
UID:2762-1679243400-1679248800@ucfostercloset.org
SUMMARY:Restorative Yoga
DESCRIPTION:Synergy Mind and Body studio on Sunday March 19\, 4:30 – 6pm Laurie Hall will lead a Restorative Yoga class. Restorative Yoga is a special practice focusing on total relaxation of the mind and body. Using different poses in which the body is completely supported\, the nervous system can settle into a rest and reset mode. Perfect for busy people who find it difficult to carve out time for self care. Self care isn’t selfish. Before we can fill other peoples’ cups\, we have to fill our own. Suitable for all bodies this quiet practice can help you to restore your batteries and leave you calmly energized for the week to come. \nPlease Contact Laura at 931-303-412
URL:https://ucfostercloset.org/event/restorative-yoga/
LOCATION:Synergy Mind and Body\, 139 E Broad Street\, Cookeville\, 38501
END:VEVENT
BEGIN:VEVENT
DTSTART;TZID=America/Chicago:20230228T180000
DTEND;TZID=America/Chicago:20230228T200000
DTSTAMP:20260423T131732
CREATED:20230201T232354Z
LAST-MODIFIED:20230208T195250Z
UID:2657-1677607200-1677614400@ucfostercloset.org
SUMMARY:Connecting Families Dinner
DESCRIPTION:Join us for dinner and connect with other parents in your community. Child care is provided for participants\, please make sure to let us know in your registration how many children in each age group will be attending.
URL:https://ucfostercloset.org/event/connecting-families-dinner/
LOCATION:Life Church\, 1634 Cookeville Hwy.\, Livingston\, TN\, 38570\, United States
END:VEVENT
BEGIN:VEVENT
DTSTART;TZID=UTC:20221203T120000
DTEND;TZID=UTC:20221203T160000
DTSTAMP:20260423T131732
CREATED:20221003T201629Z
LAST-MODIFIED:20221129T013816Z
UID:1908-1670068800-1670083200@ucfostercloset.org
SUMMARY:2022 Christmas Scavenger Hunt
DESCRIPTION:We hope you have had the pleasure of attending our Christmas Scavenger Hunt in years past\, but if not\, here are a few things to know about this event! \n\nOur goal is to bless your whole family! That means everyone is included – foster children\, biological children\, adopted children\, etc. anyone that you are caring for in your home. So please make sure you register ALL of the children in your home.\nThis event will take 1-2 hours. You will arrive at the Foster Closet. You are welcome to take the opportunity and shop for a few things while you are there or you can get started with the scavenger hunt right away. You will receive clues and things as you venture around town (in your vehicle). You will end at the River Community Church where there will be many things to do and enjoy.\nYou will also receive a meal to take home for dinner so don’t worry about planning for dinner that night 🙂
URL:https://ucfostercloset.org/event/2022-christmas-scavenger-hunt/
LOCATION:UC Foster Closet\, 259 S Willow Ave\, Cookeville\, TN\, 38501\, United States
END:VEVENT
BEGIN:VEVENT
DTSTART;TZID=UTC:20221203T113000
DTEND;TZID=UTC:20221203T163000
DTSTAMP:20260423T131732
CREATED:20221004T225621Z
LAST-MODIFIED:20221004T231435Z
UID:2011-1670067000-1670085000@ucfostercloset.org
SUMMARY:VOLUNTEER - 2022 Christmas Scavenger Hunt
DESCRIPTION:*** PLEASE CREATE AN RSVP FOR EACH ADULT VOLUNTEER. Do not adjust the “total # of guests” in your registration. \nWe have two locations for volunteers during this event. Please select one of the locations. \n\nThe Foster Closet – At this location\, volunteers will assist with one of the following jobs:\n\npass out gifts and prizes\nassist families with shopping\nhelp with check in and check out\n\n\nThe River Community Church\n\npass out meals\nhelp children with DIY craft\nassist with gift shopping\npass out cookies\, hot chocolate\, and/or coffee\nother miscellaneous jobs\n\n\n\nChildren may volunteer; however\, we recommend children be 10 years old or older. If you have a younger child that you would like to bring with you\, please email Amanda at amanda@ucfostercloset.org
URL:https://ucfostercloset.org/event/volunteer-2022-christmas-scavenger-hunt-2/
LOCATION:UC Foster Closet\, 259 S Willow Ave\, Cookeville\, TN\, 38501\, United States
END:VEVENT
END:VCALENDAR